BEGIN:VCALENDAR
VERSION:2.0
PRODID:-//5.44.244.109//NONSGML kigkonsult.se iCalcreator 2.26.9//
CALSCALE:GREGORIAN
METHOD:PUBLISH
X-FROM-URL:https://www.kiikoistenhsrk.net
X-WR-TIMEZONE:Europe/Helsinki
BEGIN:VTIMEZONE
TZID:Europe/Helsinki
X-LIC-LOCATION:Europe/Helsinki
BEGIN:STANDARD
DTSTART:20251026T040000
TZOFFSETFROM:+0300
TZOFFSETTO:+0200
RDATE:20261025T040000
TZNAME:EET
END:STANDARD
BEGIN:DAYLIGHT
DTSTART:20260329T030000
TZOFFSETFROM:+0200
TZOFFSETTO:+0300
RDATE:20270328T030000
TZNAME:EEST
END:DAYLIGHT
END:VTIMEZONE
BEGIN:VEVENT
UID:ai1ec-143@www.kiikoistenhsrk.net/uusi
DTSTAMP:20260420T124543Z
CATEGORIES:
CONTACT:
DESCRIPTION:
DTSTART;TZID=Europe/Helsinki:20230421T150000
DTEND;TZID=Europe/Helsinki:20230421T190000
LOCATION:PikkuPenkkimäki
RRULE:FREQ=WEEKLY;BYDAY=FR;WKST=MO
SEQUENCE:0
SUMMARY:Lähetyskirppis
URL:https://www.kiikoistenhsrk.net/tapahtuma/lahetyskirppis/
X-COST-TYPE:free
END:VEVENT
BEGIN:VEVENT
UID:ai1ec-144@www.kiikoistenhsrk.net/uusi
DTSTAMP:20260420T124543Z
CATEGORIES:
CONTACT:
DESCRIPTION:
DTSTART;TZID=Europe/Helsinki:20230422T100000
DTEND;TZID=Europe/Helsinki:20230422T140000
LOCATION:PikkuPenkkimäki
RRULE:FREQ=WEEKLY;BYDAY=SA;WKST=MO
SEQUENCE:0
SUMMARY:Lähetyskirppis
URL:https://www.kiikoistenhsrk.net/tapahtuma/lahetyskirppis-2/
X-COST-TYPE:free
END:VEVENT
BEGIN:VEVENT
UID:ai1ec-1195@www.kiikoistenhsrk.net/uusi
DTSTAMP:20260420T124543Z
CATEGORIES:
CONTACT:
DESCRIPTION:
DTSTART;TZID=Europe/Helsinki:20230507T110000
DTEND;TZID=Europe/Helsinki:20230507T120000
EXDATE;TZID=Europe/Helsinki:20220102T110000
EXDATE;TZID=Europe/Helsinki:20220206T110000
EXDATE;TZID=Europe/Helsinki:20220501T110000
EXDATE;TZID=Europe/Helsinki:20220605T110000
EXDATE;TZID=Europe/Helsinki:20240303T110000
EXDATE;TZID=Europe/Helsinki:20240407T110000
EXDATE;TZID=Europe/Helsinki:20240505T110000
EXDATE;TZID=Europe/Helsinki:20240602T110000
EXDATE;TZID=Europe/Helsinki:20240707T110000
EXDATE;TZID=Europe/Helsinki:20240804T110000
EXDATE;TZID=Europe/Helsinki:20240901T110000
EXDATE;TZID=Europe/Helsinki:20241006T110000
EXDATE;TZID=Europe/Helsinki:20241103T110000
EXDATE;TZID=Europe/Helsinki:20241201T110000
EXDATE;TZID=Europe/Helsinki:20250202T110000
EXDATE;TZID=Europe/Helsinki:20250302T110000
EXDATE;TZID=Europe/Helsinki:20250406T110000
EXDATE;TZID=Europe/Helsinki:20250504T110000
EXDATE;TZID=Europe/Helsinki:20250706T110000
EXDATE;TZID=Europe/Helsinki:20260201T110000
EXDATE;TZID=Europe/Helsinki:20260301T110000
EXDATE;TZID=Europe/Helsinki:20260405T110000
EXDATE;TZID=Europe/Helsinki:20260607T110000
RRULE:FREQ=MONTHLY;BYDAY=1SU
SEQUENCE:0
SUMMARY:Ehtoollisjumalanpalvelus
URL:https://www.kiikoistenhsrk.net/tapahtuma/ehtoollisjumalanpalvelus-2/
X-COST-TYPE:free
END:VEVENT
BEGIN:VEVENT
UID:ai1ec-1312@www.kiikoistenhsrk.net
DTSTAMP:20260420T124543Z
CATEGORIES:
CONTACT:
DESCRIPTION:
DTSTART;TZID=Europe/Helsinki:20230521T110000
DTEND;TZID=Europe/Helsinki:20230521T120000
SEQUENCE:0
SUMMARY:Jumalanpalvelus
URL:https://www.kiikoistenhsrk.net/tapahtuma/jumalanpalvelus-10/
X-COST-TYPE:free
END:VEVENT
BEGIN:VEVENT
UID:ai1ec-1316@www.kiikoistenhsrk.net
DTSTAMP:20260420T124543Z
CATEGORIES:
CONTACT:
DESCRIPTION:<p>Aiheena lainkuuliaisuus</p>
DTSTART;TZID=Europe/Helsinki:20230528T110000
DTEND;TZID=Europe/Helsinki:20230528T120000
SEQUENCE:0
SUMMARY:Ihmiseltä ihmiselle
URL:https://www.kiikoistenhsrk.net/tapahtuma/ihmiselta-ihmiselle-38/
X-COST-TYPE:free
END:VEVENT
BEGIN:VEVENT
UID:ai1ec-1322@www.kiikoistenhsrk.net
DTSTAMP:20260420T124543Z
CATEGORIES:
CONTACT:
DESCRIPTION:<p>Aiheena murehtiminen</p>
DTSTART;TZID=Europe/Helsinki:20230723T110000
DTEND;TZID=Europe/Helsinki:20230723T120000
SEQUENCE:0
SUMMARY:Ihmiseltä ihmiselle
URL:https://www.kiikoistenhsrk.net/tapahtuma/ihmuselta-ihmiselle/
X-COST-TYPE:free
END:VEVENT
BEGIN:VEVENT
UID:ai1ec-1329@www.kiikoistenhsrk.net
DTSTAMP:20260420T124543Z
CATEGORIES:
CONTACT:
DESCRIPTION:<p>Aarto ja Elina</p>
DTSTART;TZID=Europe/Helsinki:20230806T110000
DTEND;TZID=Europe/Helsinki:20230806T120000
SEQUENCE:0
SUMMARY:Ehtoollisjumalanpalvelus
URL:https://www.kiikoistenhsrk.net/tapahtuma/ehtoollisjumalanpalvelus-5/
X-COST-TYPE:free
END:VEVENT
BEGIN:VEVENT
UID:ai1ec-1334@www.kiikoistenhsrk.net
DTSTAMP:20260420T124543Z
CATEGORIES:
CONTACT:
DESCRIPTION:<p>Mari Palomäki</p>
DTSTART;TZID=Europe/Helsinki:20230820T110000
DTEND;TZID=Europe/Helsinki:20230820T120000
SEQUENCE:0
SUMMARY:Marttyyrien ääni
URL:https://www.kiikoistenhsrk.net/tapahtuma/marttyyrien-aani/
X-COST-TYPE:free
END:VEVENT
BEGIN:VEVENT
UID:ai1ec-1333@www.kiikoistenhsrk.net
DTSTAMP:20260420T124543Z
CATEGORIES:
CONTACT:
DESCRIPTION:<p><!--more--></p>
DTSTART;TZID=Europe/Helsinki:20230827T110000
DTEND;TZID=Europe/Helsinki:20230827T120000
SEQUENCE:0
SUMMARY:Sana ja rukous
URL:https://www.kiikoistenhsrk.net/tapahtuma/sana-ja-rukous/
X-COST-TYPE:free
END:VEVENT
BEGIN:VEVENT
UID:ai1ec-1330@www.kiikoistenhsrk.net
DTSTAMP:20260420T124543Z
CATEGORIES:
CONTACT:
DESCRIPTION:<p>Esa Salokangas</p>
DTSTART;TZID=Europe/Helsinki:20230903T110000
DTEND;TZID=Europe/Helsinki:20230903T120000
SEQUENCE:0
SUMMARY:Ehtoollisjumalanpalvelus
URL:https://www.kiikoistenhsrk.net/tapahtuma/jumalanpalvelus-11/
X-COST-TYPE:free
END:VEVENT
BEGIN:VEVENT
UID:ai1ec-1336@www.kiikoistenhsrk.net
DTSTAMP:20260420T124543Z
CATEGORIES:
CONTACT:
DESCRIPTION:<p>Murehtiminen ja ahdistus</p>
DTSTART;TZID=Europe/Helsinki:20230917T110000
DTEND;TZID=Europe/Helsinki:20230917T120000
SEQUENCE:0
SUMMARY:Ihmiseltä ihmiselle
URL:https://www.kiikoistenhsrk.net/tapahtuma/ihmiselta-ihmiselle-40/
X-COST-TYPE:free
END:VEVENT
BEGIN:VEVENT
UID:ai1ec-1335@www.kiikoistenhsrk.net
DTSTAMP:20260420T124543Z
CATEGORIES:
CONTACT:
DESCRIPTION:
DTSTART;TZID=Europe/Helsinki:20230927T180000
LOCATION:Kiikoisten seurakuntatalo @ Kiikoistentie 292
SEQUENCE:0
SUMMARY:Yhteiskristillinen ilta
URL:https://www.kiikoistenhsrk.net/tapahtuma/yhteiskristillinen-ilta-5/
X-COST-TYPE:free
X-INSTANT-EVENT:1
END:VEVENT
BEGIN:VEVENT
UID:ai1ec-1332@www.kiikoistenhsrk.net
DTSTAMP:20260420T124543Z
CATEGORIES:
CONTACT:
DESCRIPTION:<p>Rauno Haapala</p>
DTSTART;TZID=Europe/Helsinki:20231001T110000
DTEND;TZID=Europe/Helsinki:20231001T120000
SEQUENCE:0
SUMMARY:Ehtoollisjumalanpalvelus
URL:https://www.kiikoistenhsrk.net/tapahtuma/1332/
X-COST-TYPE:free
END:VEVENT
BEGIN:VEVENT
UID:ai1ec-1339@www.kiikoistenhsrk.net
DTSTAMP:20260420T124543Z
CATEGORIES:
CONTACT:
DESCRIPTION:
DTSTART;TZID=Europe/Helsinki:20231105T110000
DTEND;TZID=Europe/Helsinki:20231105T120000
SEQUENCE:0
SUMMARY:Ehtoollisjumalanpalvelus
URL:https://www.kiikoistenhsrk.net/tapahtuma/ehtoollisjumalanpalvelus-7/
X-COST-TYPE:free
END:VEVENT
BEGIN:VEVENT
UID:ai1ec-1342@www.kiikoistenhsrk.net
DTSTAMP:20260420T124544Z
CATEGORIES:
CONTACT:
DESCRIPTION:<p>Jukka Jalo</p>
DTSTART;TZID=Europe/Helsinki:20231105T110000
DTEND;TZID=Europe/Helsinki:20231105T120000
SEQUENCE:0
SUMMARY:Jumalanpalvelus
URL:https://www.kiikoistenhsrk.net/tapahtuma/jumalanpalvelus-12/
X-COST-TYPE:free
END:VEVENT
BEGIN:VEVENT
UID:ai1ec-1343@www.kiikoistenhsrk.net
DTSTAMP:20260420T124544Z
CATEGORIES:
CONTACT:
DESCRIPTION:<p>Virpi ja Kalevi</p>
DTSTART;TZID=Europe/Helsinki:20231119T160000
DTEND;TZID=Europe/Helsinki:20231119T170000
SEQUENCE:0
SUMMARY:Jumalanpalvelus
URL:https://www.kiikoistenhsrk.net/tapahtuma/jumalanpalvelus-13/
X-COST-TYPE:free
END:VEVENT
BEGIN:VEVENT
UID:ai1ec-1338@www.kiikoistenhsrk.net
DTSTAMP:20260420T124544Z
CATEGORIES:
CONTACT:
DESCRIPTION:<p>Esa Salokangas</p>
DTSTART;TZID=Europe/Helsinki:20231203T110000
DTEND;TZID=Europe/Helsinki:20231203T120000
SEQUENCE:0
SUMMARY:Ehtoollisjumalanpalvelus
URL:https://www.kiikoistenhsrk.net/tapahtuma/ehtoollisjumalanpalvelus-6/
X-COST-TYPE:free
END:VEVENT
BEGIN:VEVENT
UID:ai1ec-1347@www.kiikoistenhsrk.net
DTSTAMP:20260420T124544Z
CATEGORIES:
CONTACT:
DESCRIPTION:<p>Olavi Hyvösaho</p>
DTSTART;TZID=Europe/Helsinki:20240107T110000
DTEND;TZID=Europe/Helsinki:20240107T120000
SEQUENCE:0
SUMMARY:Jumalanpalvelus
URL:https://www.kiikoistenhsrk.net/tapahtuma/jumalanpalvelus-14/
X-COST-TYPE:free
END:VEVENT
BEGIN:VEVENT
UID:ai1ec-1350@www.kiikoistenhsrk.net
DTSTAMP:20260420T124544Z
CATEGORIES:
CONTACT:
DESCRIPTION:<p>Arto ja Elina Holmi</p>
DTSTART;TZID=Europe/Helsinki:20240121T160000
DTEND;TZID=Europe/Helsinki:20240121T170000
SEQUENCE:0
SUMMARY:Jumalanpalvelus
URL:https://www.kiikoistenhsrk.net/tapahtuma/jumalanpalvelus-15/
X-COST-TYPE:free
END:VEVENT
BEGIN:VEVENT
UID:ai1ec-1355@www.kiikoistenhsrk.net
DTSTAMP:20260420T124544Z
CATEGORIES:
CONTACT:
DESCRIPTION:<p>Esa Salokangas</p>
DTSTART;TZID=Europe/Helsinki:20240204T110000
DTEND;TZID=Europe/Helsinki:20240204T120000
SEQUENCE:0
SUMMARY:Ehtoollisjumalanpalvelus
URL:https://www.kiikoistenhsrk.net/tapahtuma/ehtoollisjumalanpalvelus-8/
X-COST-TYPE:free
END:VEVENT
BEGIN:VEVENT
UID:ai1ec-1356@www.kiikoistenhsrk.net
DTSTAMP:20260420T124544Z
CATEGORIES:
CONTACT:
DESCRIPTION:<p>Teemana Jumaka voi</p>\n<p>Matti Karvinen ja Kalevi Kulonpää
 </p>
DTSTART;TZID=Europe/Helsinki:20240218T160000
DTEND;TZID=Europe/Helsinki:20240218T170000
SEQUENCE:0
SUMMARY:Jumalanpalvelus
URL:https://www.kiikoistenhsrk.net/tapahtuma/jumalanpalvelus-17/
X-COST-TYPE:free
END:VEVENT
BEGIN:VEVENT
UID:ai1ec-1363@www.kiikoistenhsrk.net
DTSTAMP:20260420T124544Z
CATEGORIES:
CONTACT:
DESCRIPTION:<p>Juha Rajala</p>
DTSTART;TZID=Europe/Helsinki:20240303T110000
DTEND;TZID=Europe/Helsinki:20240303T120000
SEQUENCE:0
SUMMARY:Ehtoollisjumalanpalvelus
URL:https://www.kiikoistenhsrk.net/tapahtuma/ehtoollisjumalanpalvelus-9/
X-COST-TYPE:free
END:VEVENT
BEGIN:VEVENT
UID:ai1ec-1364@www.kiikoistenhsrk.net
DTSTAMP:20260420T124544Z
CATEGORIES:
CONTACT:
DESCRIPTION:<p>Ehtoollinen ja vuosikokous</p>
DTSTART;TZID=Europe/Helsinki:20240407T110000
DTEND;TZID=Europe/Helsinki:20240407T120000
SEQUENCE:0
SUMMARY:Ehtoollisjumalanpalvelus
URL:https://www.kiikoistenhsrk.net/tapahtuma/ehtoollisjumalanpalvelus-10/
X-COST-TYPE:free
END:VEVENT
BEGIN:VEVENT
UID:ai1ec-1367@www.kiikoistenhsrk.net
DTSTAMP:20260420T124544Z
CATEGORIES:
CONTACT:
DESCRIPTION:<p>Jukka ja Merja</p>
DTSTART;TZID=Europe/Helsinki:20240414T110000
DTEND;TZID=Europe/Helsinki:20240414T120000
SEQUENCE:0
SUMMARY:Jumalanpalvelus
URL:https://www.kiikoistenhsrk.net/tapahtuma/jumalanpalvelus-16/
X-COST-TYPE:free
END:VEVENT
BEGIN:VEVENT
UID:ai1ec-1362@www.kiikoistenhsrk.net
DTSTAMP:20260420T124544Z
CATEGORIES:
CONTACT:
DESCRIPTION:<p>Teemana <em>Jumala voi </em>ja vieraina ovat Kalevi Kulonpää
  ja Juha Rajala</p>
DTSTART;TZID=Europe/Helsinki:20240421T160000
DTEND;TZID=Europe/Helsinki:20240421T170000
SEQUENCE:0
SUMMARY:Jumalanpalvelus
URL:https://www.kiikoistenhsrk.net/tapahtuma/jumalanpalvelus-19/
X-COST-TYPE:free
END:VEVENT
BEGIN:VEVENT
UID:ai1ec-1365@www.kiikoistenhsrk.net
DTSTAMP:20260420T124544Z
CATEGORIES:
CONTACT:
DESCRIPTION:<p>Musiikissa Marita Kulku</p>
DTSTART;TZID=Europe/Helsinki:20240505T110000
DTEND;TZID=Europe/Helsinki:20240505T120000
SEQUENCE:0
SUMMARY:Ehtoollisjumalanpalvelus
URL:https://www.kiikoistenhsrk.net/tapahtuma/ehtoollisjumalanpalvelus-11/
X-COST-TYPE:free
END:VEVENT
BEGIN:VEVENT
UID:ai1ec-1359@www.kiikoistenhsrk.net
DTSTAMP:20260420T124544Z
CATEGORIES:
CONTACT:
DESCRIPTION:<p>Viljaset</p>
DTSTART;TZID=Europe/Helsinki:20240519T160000
DTEND;TZID=Europe/Helsinki:20240519T170000
SEQUENCE:0
SUMMARY:Jumalanpalvelus
URL:https://www.kiikoistenhsrk.net/tapahtuma/jumalanpalvelus-18/
X-COST-TYPE:free
END:VEVENT
BEGIN:VEVENT
UID:ai1ec-1370@www.kiikoistenhsrk.net
DTSTAMP:20260420T124544Z
CATEGORIES:
CONTACT:
DESCRIPTION:<p>Esa Salokangas</p>
DTSTART;TZID=Europe/Helsinki:20240602T110000
DTEND;TZID=Europe/Helsinki:20240602T120000
SEQUENCE:0
SUMMARY:Ehtoollisjumalanpalvelus
URL:https://www.kiikoistenhsrk.net/tapahtuma/ehtoollisjumalanpalvelus-12/
X-COST-TYPE:free
END:VEVENT
BEGIN:VEVENT
UID:ai1ec-1372@www.kiikoistenhsrk.net
DTSTAMP:20260420T124544Z
CATEGORIES:
CONTACT:
DESCRIPTION:<p>Vieraana Kalevi Kulonpää ja teemana Jumala voi</p>
DTSTART;TZID=Europe/Helsinki:20240616T110000
DTEND;TZID=Europe/Helsinki:20240616T120000
SEQUENCE:0
SUMMARY:Jumalanpalvelus
URL:https://www.kiikoistenhsrk.net/tapahtuma/jumalanpalvelus-20/
X-COST-TYPE:free
END:VEVENT
BEGIN:VEVENT
UID:ai1ec-1371@www.kiikoistenhsrk.net
DTSTAMP:20260420T124544Z
CATEGORIES:
CONTACT:
DESCRIPTION:<p>Ilpo Viljanen</p>
DTSTART;TZID=Europe/Helsinki:20240707T110000
DTEND;TZID=Europe/Helsinki:20240707T120000
SEQUENCE:0
SUMMARY:Ehtoollisjumalanpalvelus
URL:https://www.kiikoistenhsrk.net/tapahtuma/ehtoollisjumalanpalvelus-13/
X-COST-TYPE:free
END:VEVENT
BEGIN:VEVENT
UID:ai1ec-1375@www.kiikoistenhsrk.net
DTSTAMP:20260420T124544Z
CATEGORIES:
CONTACT:
DESCRIPTION:<p>Juha Rajala</p>
DTSTART;TZID=Europe/Helsinki:20240804T110000
DTEND;TZID=Europe/Helsinki:20240804T120000
SEQUENCE:0
SUMMARY:Ehtoollisjumalanpalvelus
URL:https://www.kiikoistenhsrk.net/tapahtuma/ehtoollisjumalanpalvelus-14/
X-COST-TYPE:free
END:VEVENT
BEGIN:VEVENT
UID:ai1ec-1377@www.kiikoistenhsrk.net
DTSTAMP:20260420T124544Z
CATEGORIES:
CONTACT:
DESCRIPTION:<p>Ilpo Viljanen</p>
DTSTART;TZID=Europe/Helsinki:20240901T110000
DTEND;TZID=Europe/Helsinki:20240901T120000
SEQUENCE:0
SUMMARY:Ehtoollisjumalanpalvelus
URL:https://www.kiikoistenhsrk.net/tapahtuma/ehtoollisjumalanpalvelus-16/
X-COST-TYPE:free
END:VEVENT
BEGIN:VEVENT
UID:ai1ec-1379@www.kiikoistenhsrk.net
DTSTAMP:20260420T124544Z
CATEGORIES:
CONTACT:
DESCRIPTION:<p>Teemana Jumala voi ja puhujina ovat Juha Rajala sekä Kalevi 
 Kulonpää.</p>
DTSTART;TZID=Europe/Helsinki:20240915T160000
DTEND;TZID=Europe/Helsinki:20240915T170000
SEQUENCE:0
SUMMARY:Jumalanpalvelus
URL:https://www.kiikoistenhsrk.net/tapahtuma/jumalanpalvelus-21/
X-COST-TYPE:free
END:VEVENT
BEGIN:VEVENT
UID:ai1ec-1376@www.kiikoistenhsrk.net
DTSTAMP:20260420T124544Z
CATEGORIES:
CONTACT:
DESCRIPTION:<p>Jukka Mäkinen</p>
DTSTART;TZID=Europe/Helsinki:20241006T110000
DTEND;TZID=Europe/Helsinki:20241006T120000
SEQUENCE:0
SUMMARY:Ehtoollisjumalanpalvelus
URL:https://www.kiikoistenhsrk.net/tapahtuma/ehtoollisjumalanpalvelus-15/
X-COST-TYPE:free
END:VEVENT
BEGIN:VEVENT
UID:ai1ec-1380@www.kiikoistenhsrk.net
DTSTAMP:20260420T124544Z
CATEGORIES:
CONTACT:
DESCRIPTION:<p>Teemana Jumala voi ja puhujina toimivat Juha Rajala sekä Kal
 evi Kulonpää</p>
DTSTART;TZID=Europe/Helsinki:20241020T160000
DTEND;TZID=Europe/Helsinki:20241020T170000
SEQUENCE:0
SUMMARY:Jumalanpalvelus
URL:https://www.kiikoistenhsrk.net/tapahtuma/jumalanpalvelus-22/
X-COST-TYPE:free
END:VEVENT
BEGIN:VEVENT
UID:ai1ec-1382@www.kiikoistenhsrk.net
DTSTAMP:20260420T124544Z
CATEGORIES:
CONTACT:
DESCRIPTION:<p>Rauno Haapala</p>
DTSTART;TZID=Europe/Helsinki:20241103T110000
DTEND;TZID=Europe/Helsinki:20241103T120000
SEQUENCE:0
SUMMARY:Ehtoollisjumalanpalvelus
URL:https://www.kiikoistenhsrk.net/tapahtuma/ehtoollisjumalanpalvelus-17/
X-COST-TYPE:free
END:VEVENT
BEGIN:VEVENT
UID:ai1ec-1383@www.kiikoistenhsrk.net
DTSTAMP:20260420T124544Z
CATEGORIES:
CONTACT:
DESCRIPTION:<p>Teemana Jumala voi ja vieraina ovat Matti Karvinen sekä Kale
 vi Kulonpää</p>
DTSTART;TZID=Europe/Helsinki:20241117T160000
DTEND;TZID=Europe/Helsinki:20241117T170000
SEQUENCE:0
SUMMARY:Jumalanpalvelus
URL:https://www.kiikoistenhsrk.net/tapahtuma/jumalanpalvelus-23/
X-COST-TYPE:free
END:VEVENT
BEGIN:VEVENT
UID:ai1ec-1389@www.kiikoistenhsrk.net
DTSTAMP:20260420T124544Z
CATEGORIES:
CONTACT:
DESCRIPTION:<p>Nina Åströmin joulukonsertti Kiikoisten kirkossa klo.18</p>
DTSTART;TZID=Europe/Helsinki:20241129T180000
DTEND;TZID=Europe/Helsinki:20241129T190000
LOCATION:Kiikoinen @ Kiikostentie 300\, 38360 Sastamala
SEQUENCE:0
SUMMARY:Joulukonsertti kiikoisten kirkossa
URL:https://www.kiikoistenhsrk.net/tapahtuma/joulukonsertti-kiikoisten-kirk
 ossa/
X-COST-TYPE:free
END:VEVENT
BEGIN:VEVENT
UID:ai1ec-1387@www.kiikoistenhsrk.net
DTSTAMP:20260420T124544Z
CATEGORIES:
CONTACT:
DESCRIPTION:<p>Esa Salokangas</p>
DTSTART;TZID=Europe/Helsinki:20241201T110000
DTEND;TZID=Europe/Helsinki:20241201T120000
SEQUENCE:0
SUMMARY:Ehtoollisjumalanpalvelus
URL:https://www.kiikoistenhsrk.net/tapahtuma/ehtoollisjumalanpalvelus-19/
X-COST-TYPE:free
END:VEVENT
BEGIN:VEVENT
UID:ai1ec-1391@www.kiikoistenhsrk.net
DTSTAMP:20260420T124544Z
CATEGORIES:
CONTACT:
DESCRIPTION:<p>Kalevi ja Juha Rajala teemalla jumala voi</p>
DTSTART;TZID=Europe/Helsinki:20250119T160000
DTEND;TZID=Europe/Helsinki:20250119T170000
RDATE;TZID=Europe/Helsinki:20250216T160000
RDATE;TZID=Europe/Helsinki:20250316T160000
SEQUENCE:0
SUMMARY:Jumalanpalvelus
URL:https://www.kiikoistenhsrk.net/tapahtuma/jumalanpalvelus-24/
X-COST-TYPE:free
END:VEVENT
BEGIN:VEVENT
UID:ai1ec-1392@www.kiikoistenhsrk.net
DTSTAMP:20260420T124544Z
CATEGORIES:
CONTACT:
DESCRIPTION:<p>Jukka ja Pirjo Jalo</p>
DTSTART;TZID=Europe/Helsinki:20250202T110000
DTEND;TZID=Europe/Helsinki:20250202T120000
SEQUENCE:0
SUMMARY:Ehtoollisjumalanpalvelus
URL:https://www.kiikoistenhsrk.net/tapahtuma/ehtoollisjumalanpalvelus-20/
X-COST-TYPE:free
END:VEVENT
BEGIN:VEVENT
UID:ai1ec-1386@www.kiikoistenhsrk.net
DTSTAMP:20260420T124544Z
CATEGORIES:
CONTACT:
DESCRIPTION:<p>Mari Palomäki\, marttyyrien ääni</p>
DTSTART;TZID=Europe/Helsinki:20250302T110000
DTEND;TZID=Europe/Helsinki:20250302T120000
SEQUENCE:0
SUMMARY:Ehtoollisjumalanpalvelus
URL:https://www.kiikoistenhsrk.net/tapahtuma/ehtoollisjumalanpalvelus-18/
X-COST-TYPE:free
END:VEVENT
BEGIN:VEVENT
UID:ai1ec-1395@www.kiikoistenhsrk.net
DTSTAMP:20260420T124544Z
CATEGORIES:
CONTACT:
DESCRIPTION:<p>Vuosikokous</p>
DTSTART;TZID=Europe/Helsinki:20250406T110000
DTEND;TZID=Europe/Helsinki:20250406T120000
SEQUENCE:0
SUMMARY:Ehtoollisjumalanpalvelus
URL:https://www.kiikoistenhsrk.net/tapahtuma/ehtoollisjumalanpalvelus-22/
X-COST-TYPE:free
END:VEVENT
BEGIN:VEVENT
UID:ai1ec-1394@www.kiikoistenhsrk.net
DTSTAMP:20260420T124544Z
CATEGORIES:
CONTACT:
DESCRIPTION:<p>Mäkiset</p>
DTSTART;TZID=Europe/Helsinki:20250504T110000
DTEND;TZID=Europe/Helsinki:20250504T120000
SEQUENCE:0
SUMMARY:Ehtoollisjumalanpalvelus
URL:https://www.kiikoistenhsrk.net/tapahtuma/ehtoollisjumalanpalvelus-21/
X-COST-TYPE:free
END:VEVENT
BEGIN:VEVENT
UID:ai1ec-1397@www.kiikoistenhsrk.net
DTSTAMP:20260420T124544Z
CATEGORIES:
CONTACT:
DESCRIPTION:<p>Rauno Haapala</p>
DTSTART;TZID=Europe/Helsinki:20250706T110000
DTEND;TZID=Europe/Helsinki:20250706T120000
SEQUENCE:0
SUMMARY:Ehtoollisjumalanpalvelus
URL:https://www.kiikoistenhsrk.net/tapahtuma/ehtoollisjumalanpalvelus-23/
X-COST-TYPE:free
END:VEVENT
BEGIN:VEVENT
UID:ai1ec-1402@www.kiikoistenhsrk.net
DTSTAMP:20260420T124544Z
CATEGORIES:
CONTACT:
DESCRIPTION:<p>Ilpo Viljanen</p>
DTSTART;TZID=Europe/Helsinki:20260201T110000
DTEND;TZID=Europe/Helsinki:20260201T120000
SEQUENCE:0
SUMMARY:Ehtoollisjumalanpalvelus
URL:https://www.kiikoistenhsrk.net/tapahtuma/ehtoollisjumalanpalvelus-24/
X-COST-TYPE:free
END:VEVENT
BEGIN:VEVENT
UID:ai1ec-1403@www.kiikoistenhsrk.net
DTSTAMP:20260420T124544Z
CATEGORIES:
CONTACT:
DESCRIPTION:<p>Antero ja Anne Kulonpää</p>
DTSTART;TZID=Europe/Helsinki:20260301T110000
DTEND;TZID=Europe/Helsinki:20260301T120000
SEQUENCE:0
SUMMARY:Ehtoollisjumalanpalvelus
URL:https://www.kiikoistenhsrk.net/tapahtuma/ehtoollisjumalanpalvelus-25/
X-COST-TYPE:free
END:VEVENT
BEGIN:VEVENT
UID:ai1ec-1404@www.kiikoistenhsrk.net
DTSTAMP:20260420T124544Z
CATEGORIES:
CONTACT:
DESCRIPTION:<p>Mäkiset</p>
DTSTART;TZID=Europe/Helsinki:20260405T110000
DTEND;TZID=Europe/Helsinki:20260405T120000
SEQUENCE:0
SUMMARY:Ehtoollisjumalanpalvelus
URL:https://www.kiikoistenhsrk.net/tapahtuma/ehtoollisjumalanpalvelus-26/
X-COST-TYPE:free
END:VEVENT
BEGIN:VEVENT
UID:ai1ec-1405@www.kiikoistenhsrk.net
DTSTAMP:20260420T124544Z
CATEGORIES:
CONTACT:
DESCRIPTION:<p>Mäkiset</p>
DTSTART;TZID=Europe/Helsinki:20260607T110000
DTEND;TZID=Europe/Helsinki:20260607T120000
SEQUENCE:0
SUMMARY:Ehtoollisjumalanpalvelus
URL:https://www.kiikoistenhsrk.net/tapahtuma/ehtoollisjumalanpalvelus-27/
X-COST-TYPE:free
END:VEVENT
END:VCALENDAR
